Package: transomics2cytoscape Version: 1.16.0 Command: chmod a+r transomics2cytoscape -R && F:\biocbuild\bbs-3.20-bioc\R\bin\R.exe CMD build --keep-empty-dirs --no-resave-data transomics2cytoscape StartedAt: 2025-01-30 22:22:58 -0500 (Thu, 30 Jan 2025) EndedAt: 2025-01-30 22:23:17 -0500 (Thu, 30 Jan 2025) EllapsedTime: 18.3 seconds RetCode: 0 Status: OK PackageFile: transomics2cytoscape_1.16.0.tar.gz PackageFileSize: 11.82 MiB