Package: transomics2cytoscape Version: 1.16.0 Command: F:\biocbuild\bbs-3.20-bioc\R\bin\R.exe CMD INSTALL transomics2cytoscape StartedAt: 2025-02-03 16:12:13 -0500 (Mon, 03 Feb 2025) EndedAt: 2025-02-03 16:13:00 -0500 (Mon, 03 Feb 2025) EllapsedTime: 47.5 seconds RetCode: 0 Status: OK