Package: traseR Version: 1.36.0 Command: /home/biocbuild/bbs-3.20-bioc/R/bin/R CMD INSTALL traseR StartedAt: 2025-02-03 15:37:52 -0500 (Mon, 03 Feb 2025) EndedAt: 2025-02-03 15:38:22 -0500 (Mon, 03 Feb 2025) EllapsedTime: 30.5 seconds RetCode: 0 Status: OK