Package: traseR
Version: 1.35.0
Command: rm -rf traseR.buildbin-libdir && mkdir traseR.buildbin-libdir && F:\biocbuild\bbs-3.20-bioc\R\bin\R.exe CMD INSTALL --build --library=traseR.buildbin-libdir traseR_1.35.0.tar.gz
StartedAt: 2024-06-10 15:25:29 -0400 (Mon, 10 Jun 2024)
EndedAt: 2024-06-10 15:27:16 -0400 (Mon, 10 Jun 2024)
EllapsedTime: 106.6 seconds
RetCode: 0
Status: OK
PackageFile: traseR_1.35.0.zip
PackageFileSize: 6.294 <A href="http://en.wikipedia.org/wiki/MiB" target="_blank">MiB</A>