Package: traseR Version: 1.36.0 Command: chmod a+r traseR -R && F:\biocbuild\bbs-3.20-bioc\R\bin\R.exe CMD build --keep-empty-dirs --no-resave-data traseR StartedAt: 2025-02-03 22:40:35 -0500 (Mon, 03 Feb 2025) EndedAt: 2025-02-03 22:41:43 -0500 (Mon, 03 Feb 2025) EllapsedTime: 68.1 seconds RetCode: 0 Status: OK PackageFile: traseR_1.36.0.tar.gz PackageFileSize: 6.222 MiB