Package: traseR Version: 1.36.0 Command: F:\biocbuild\bbs-3.20-bioc\R\bin\R.exe CMD check --no-multiarch --install=check:traseR.install-out.txt --library=F:\biocbuild\bbs-3.20-bioc\R\library --no-vignettes --timings traseR_1.36.0.tar.gz StartedAt: 2025-02-04 07:13:56 -0500 (Tue, 04 Feb 2025) EndedAt: 2025-02-04 07:18:59 -0500 (Tue, 04 Feb 2025) EllapsedTime: 303.1 seconds RetCode: 0 Status: OK CheckDir: traseR.Rcheck Warnings: 0