Package: traseR Version: 1.36.0 Command: F:\biocbuild\bbs-3.20-bioc\R\bin\R.exe CMD INSTALL traseR StartedAt: 2025-02-17 16:05:42 -0500 (Mon, 17 Feb 2025) EndedAt: 2025-02-17 16:06:44 -0500 (Mon, 17 Feb 2025) EllapsedTime: 61.8 seconds RetCode: 0 Status: OK