Package: traviz Version: 1.12.0 Command: rm -rf traviz.buildbin-libdir && mkdir traviz.buildbin-libdir && /Users/biocbuild/BBS/utils/build-universal.sh traviz_1.12.0.tar.gz /Library/Frameworks/R.framework/Resources/bin/R traviz.buildbin-libdir StartedAt: 2025-02-05 18:10:21 -0500 (Wed, 05 Feb 2025) EndedAt: 2025-02-05 18:10:55 -0500 (Wed, 05 Feb 2025) EllapsedTime: 33.6 seconds RetCode: 0 Status: OK PackageFile: traviz_1.12.0.tgz PackageFileSize: 3.709 MiB