Package: traviz Version: 1.12.0 Command: /Library/Frameworks/R.framework/Resources/bin/R CMD build --keep-empty-dirs --no-resave-data traviz StartedAt: 2025-02-04 10:00:50 -0500 (Tue, 04 Feb 2025) EndedAt: 2025-02-04 10:01:50 -0500 (Tue, 04 Feb 2025) EllapsedTime: 59.2 seconds RetCode: 0 Status: OK PackageFile: traviz_1.12.0.tar.gz PackageFileSize: 3.638 MiB