Package: traviz Version: 1.12.0 Command: /home/biocbuild/bbs-3.20-bioc/R/bin/R CMD check --install=check:traviz.install-out.txt --library=/home/biocbuild/bbs-3.20-bioc/R/site-library --timings traviz_1.12.0.tar.gz StartedAt: 2025-02-04 03:20:09 -0500 (Tue, 04 Feb 2025) EndedAt: 2025-02-04 03:23:50 -0500 (Tue, 04 Feb 2025) EllapsedTime: 221.3 seconds RetCode: 1 Status: ERROR CheckDir: traviz.Rcheck Warnings: NA