Package: traviz Version: 1.12.0 Command: /home/biocbuild/R/R/bin/R CMD build --keep-empty-dirs --no-resave-data traviz StartedAt: 2025-02-04 03:38:37 -0000 (Tue, 04 Feb 2025) EndedAt: 2025-02-04 03:40:00 -0000 (Tue, 04 Feb 2025) EllapsedTime: 83.1 seconds RetCode: 0 Status: OK PackageFile: traviz_1.12.0.tar.gz PackageFileSize: 2.262 MiB