Package: traviz Version: 1.12.0 Command: /home/biocbuild/R/R/bin/R CMD INSTALL traviz StartedAt: 2025-02-03 20:53:33 -0000 (Mon, 03 Feb 2025) EndedAt: 2025-02-03 20:54:04 -0000 (Mon, 03 Feb 2025) EllapsedTime: 31.7 seconds RetCode: 0 Status: OK