Package: treekoR Version: 1.14.0 Maintainer: Adam Chan MaintainerEmail: adam.s.chan at sydney.edu.au git_url: https://git.bioconductor.org/packages/treekoR git_branch: RELEASE_3_20 git_last_commit: ddac7bd git_last_commit_date: 2024-10-29 10:58:40 -0500 (Tue, 29 Oct 2024)