Package: treekoR Version: 1.14.0 Command: /Library/Frameworks/R.framework/Resources/bin/R CMD INSTALL treekoR StartedAt: 2025-02-03 18:14:39 -0500 (Mon, 03 Feb 2025) EndedAt: 2025-02-03 18:15:28 -0500 (Mon, 03 Feb 2025) EllapsedTime: 49.8 seconds RetCode: 0 Status: OK