Package: treekoR Version: 1.14.0 Command: /Library/Frameworks/R.framework/Resources/bin/R CMD build --keep-empty-dirs --no-resave-data treekoR StartedAt: 2025-02-03 23:00:54 -0500 (Mon, 03 Feb 2025) EndedAt: 2025-02-03 23:04:05 -0500 (Mon, 03 Feb 2025) EllapsedTime: 191.7 seconds RetCode: 0 Status: OK PackageFile: treekoR_1.14.0.tar.gz PackageFileSize: 1.58 MiB