Package: treekoR Version: 1.14.0 Command: /Library/Frameworks/R.framework/Resources/bin/R CMD INSTALL treekoR StartedAt: 2025-02-03 16:48:44 -0500 (Mon, 03 Feb 2025) EndedAt: 2025-02-03 16:50:16 -0500 (Mon, 03 Feb 2025) EllapsedTime: 92.0 seconds RetCode: 0 Status: OK