Package: treekoR Version: 1.14.0 Command: chmod a+r treekoR -R && F:\biocbuild\bbs-3.20-bioc\R\bin\R.exe CMD build --keep-empty-dirs --no-resave-data treekoR StartedAt: 2025-02-10 22:36:19 -0500 (Mon, 10 Feb 2025) EndedAt: 2025-02-10 22:38:06 -0500 (Mon, 10 Feb 2025) EllapsedTime: 107.1 seconds RetCode: 0 Status: OK PackageFile: treekoR_1.14.0.tar.gz PackageFileSize: 1.58 MiB