Package: tricycle Version: 1.14.0 Command: /Library/Frameworks/R.framework/Resources/bin/R CMD check --install=check:tricycle.install-out.txt --library=/Library/Frameworks/R.framework/Resources/library --no-vignettes --timings tricycle_1.14.0.tar.gz StartedAt: 2025-02-05 13:30:06 -0500 (Wed, 05 Feb 2025) EndedAt: 2025-02-05 13:35:11 -0500 (Wed, 05 Feb 2025) EllapsedTime: 305.2 seconds RetCode: 0 Status: OK CheckDir: tricycle.Rcheck Warnings: 0