Package: tricycle
Version: 1.14.0
Command: /home/biocbuild/R/R/bin/R CMD build --keep-empty-dirs --no-resave-data tricycle
StartedAt: 2024-11-20 04:34:59 -0000 (Wed, 20 Nov 2024)
EndedAt: 2024-11-20 04:36:21 -0000 (Wed, 20 Nov 2024)
EllapsedTime: 82.1 seconds
RetCode: 0
Status: OK
PackageFile: tricycle_1.14.0.tar.gz
PackageFileSize: 3.722 <A href="http://en.wikipedia.org/wiki/MiB" target="_blank">MiB</A>