Package: tricycle Version: 1.14.0 Command: /home/biocbuild/bbs-3.20-bioc/R/bin/R CMD build --keep-empty-dirs --no-resave-data --md5 tricycle StartedAt: 2025-02-03 19:41:58 -0500 (Mon, 03 Feb 2025) EndedAt: 2025-02-03 19:42:54 -0500 (Mon, 03 Feb 2025) EllapsedTime: 55.0 seconds RetCode: 0 Status: OK PackageFile: tricycle_1.14.0.tar.gz PackageFileSize: 4.187 MiB