Package: tricycle Version: 1.14.0 Command: /home/biocbuild/R/R/bin/R CMD build --keep-empty-dirs --no-resave-data tricycle StartedAt: 2025-02-04 03:39:56 -0000 (Tue, 04 Feb 2025) EndedAt: 2025-02-04 03:41:36 -0000 (Tue, 04 Feb 2025) EllapsedTime: 100.2 seconds RetCode: 0 Status: OK PackageFile: tricycle_1.14.0.tar.gz PackageFileSize: 3.72 MiB