Package: tricycle Version: 1.14.0 Command: /home/biocbuild/R/R/bin/R CMD INSTALL tricycle StartedAt: 2025-02-03 21:16:29 -0000 (Mon, 03 Feb 2025) EndedAt: 2025-02-03 21:17:09 -0000 (Mon, 03 Feb 2025) EllapsedTime: 39.3 seconds RetCode: 0 Status: OK