Package: trigger Version: 1.52.0 Maintainer: John D. Storey MaintainerEmail: jstorey at princeton.edu git_url: https://git.bioconductor.org/packages/trigger git_branch: RELEASE_3_20 git_last_commit: c0e31cf git_last_commit_date: 2024-10-29 09:39:29 -0500 (Tue, 29 Oct 2024)