Package: trigger Version: 1.52.0 Command: rm -rf trigger.buildbin-libdir && mkdir trigger.buildbin-libdir && /Users/biocbuild/BBS/utils/build-universal.sh trigger_1.52.0.tar.gz /Library/Frameworks/R.framework/Resources/bin/R trigger.buildbin-libdir StartedAt: 2025-02-01 17:15:59 -0500 (Sat, 01 Feb 2025) EndedAt: 2025-02-01 17:16:31 -0500 (Sat, 01 Feb 2025) EllapsedTime: 32.3 seconds RetCode: 0 Status: OK PackageFile: trigger_1.52.0.tgz PackageFileSize: 2.21 MiB