Package: trigger Version: 1.52.0 Command: /Library/Frameworks/R.framework/Resources/bin/R CMD build --keep-empty-dirs --no-resave-data trigger StartedAt: 2025-02-04 10:04:55 -0500 (Tue, 04 Feb 2025) EndedAt: 2025-02-04 10:07:56 -0500 (Tue, 04 Feb 2025) EllapsedTime: 180.8 seconds RetCode: 0 Status: OK PackageFile: trigger_1.52.0.tar.gz PackageFileSize: 1.839 MiB