Package: trigger Version: 1.52.0 Command: /Library/Frameworks/R.framework/Resources/bin/R CMD check --install=check:trigger.install-out.txt --library=/Library/Frameworks/R.framework/Resources/library --no-vignettes --timings trigger_1.52.0.tar.gz StartedAt: 2025-02-01 12:36:30 -0500 (Sat, 01 Feb 2025) EndedAt: 2025-02-01 12:40:01 -0500 (Sat, 01 Feb 2025) EllapsedTime: 211.7 seconds RetCode: 0 Status: OK CheckDir: trigger.Rcheck Warnings: 0