Package: trigger Version: 1.52.0 Command: /Library/Frameworks/R.framework/Resources/bin/R CMD build --keep-empty-dirs --no-resave-data trigger StartedAt: 2025-01-30 23:32:15 -0500 (Thu, 30 Jan 2025) EndedAt: 2025-01-30 23:36:56 -0500 (Thu, 30 Jan 2025) EllapsedTime: 280.8 seconds RetCode: 0 Status: OK PackageFile: trigger_1.52.0.tar.gz PackageFileSize: 1.839 MiB