Package: trigger Version: 1.52.0 Command: /Library/Frameworks/R.framework/Resources/bin/R CMD check --install=check:trigger.install-out.txt --library=/Library/Frameworks/R.framework/Resources/library --no-vignettes --timings trigger_1.52.0.tar.gz StartedAt: 2025-01-31 11:26:58 -0500 (Fri, 31 Jan 2025) EndedAt: 2025-01-31 11:33:09 -0500 (Fri, 31 Jan 2025) EllapsedTime: 370.8 seconds RetCode: 0 Status: OK CheckDir: trigger.Rcheck Warnings: 0