Package: trigger Version: 1.52.0 Command: /Library/Frameworks/R.framework/Resources/bin/R CMD INSTALL trigger StartedAt: 2025-01-30 16:23:34 -0500 (Thu, 30 Jan 2025) EndedAt: 2025-01-30 16:24:31 -0500 (Thu, 30 Jan 2025) EllapsedTime: 57.1 seconds RetCode: 0 Status: OK