Package: trigger Version: 1.52.0 Command: rm -rf trigger.buildbin-libdir && mkdir trigger.buildbin-libdir && F:\biocbuild\bbs-3.20-bioc\R\bin\R.exe CMD INSTALL --build --library=trigger.buildbin-libdir trigger_1.52.0.tar.gz StartedAt: 2025-01-31 09:49:28 -0500 (Fri, 31 Jan 2025) EndedAt: 2025-01-31 09:50:19 -0500 (Fri, 31 Jan 2025) EllapsedTime: 50.4 seconds RetCode: 0 Status: OK PackageFile: trigger_1.52.0.zip PackageFileSize: 2.08 MiB