Package: trigger Version: 1.52.0 Command: /home/biocbuild/R/R/bin/R CMD build --keep-empty-dirs --no-resave-data trigger StartedAt: 2025-02-04 03:40:00 -0000 (Tue, 04 Feb 2025) EndedAt: 2025-02-04 03:43:05 -0000 (Tue, 04 Feb 2025) EllapsedTime: 185.3 seconds RetCode: 0 Status: OK PackageFile: trigger_1.52.0.tar.gz PackageFileSize: 1.829 MiB