Package: trio Version: 3.44.0 Command: /Library/Frameworks/R.framework/Resources/bin/R CMD build --keep-empty-dirs --no-resave-data trio StartedAt: 2025-02-04 10:05:07 -0500 (Tue, 04 Feb 2025) EndedAt: 2025-02-04 10:06:07 -0500 (Tue, 04 Feb 2025) EllapsedTime: 60.2 seconds RetCode: 0 Status: OK PackageFile: trio_3.44.0.tar.gz PackageFileSize: 747.9 KiB