Package: trio Version: 3.44.0 Command: rm -rf trio.buildbin-libdir && mkdir trio.buildbin-libdir && F:\biocbuild\bbs-3.20-bioc\R\bin\R.exe CMD INSTALL --build --library=trio.buildbin-libdir trio_3.44.0.tar.gz StartedAt: 2025-02-04 09:43:20 -0500 (Tue, 04 Feb 2025) EndedAt: 2025-02-04 09:44:33 -0500 (Tue, 04 Feb 2025) EllapsedTime: 73.2 seconds RetCode: 0 Status: OK PackageFile: trio_3.44.0.zip PackageFileSize: 1.557 MiB