Package: trio Version: 3.44.0 Command: chmod a+r trio -R && F:\biocbuild\bbs-3.20-bioc\R\bin\R.exe CMD build --keep-empty-dirs --no-resave-data trio StartedAt: 2025-02-03 22:41:38 -0500 (Mon, 03 Feb 2025) EndedAt: 2025-02-03 22:42:57 -0500 (Mon, 03 Feb 2025) EllapsedTime: 78.4 seconds RetCode: 0 Status: OK PackageFile: trio_3.44.0.tar.gz PackageFileSize: 692.2 KiB