Package: triplex Version: 1.46.0 Command: /Library/Frameworks/R.framework/Resources/bin/R CMD build --keep-empty-dirs --no-resave-data triplex StartedAt: 2025-02-03 23:01:55 -0500 (Mon, 03 Feb 2025) EndedAt: 2025-02-03 23:03:14 -0500 (Mon, 03 Feb 2025) EllapsedTime: 78.3 seconds RetCode: 0 Status: OK PackageFile: triplex_1.46.0.tar.gz PackageFileSize: 600.3 KiB