Package: triplex Version: 1.46.0 Command: rm -rf triplex.buildbin-libdir && mkdir triplex.buildbin-libdir && F:\biocbuild\bbs-3.20-bioc\R\bin\R.exe CMD INSTALL --build --library=triplex.buildbin-libdir triplex_1.46.0.tar.gz StartedAt: 2025-02-04 09:43:27 -0500 (Tue, 04 Feb 2025) EndedAt: 2025-02-04 09:44:24 -0500 (Tue, 04 Feb 2025) EllapsedTime: 56.8 seconds RetCode: 0 Status: OK PackageFile: triplex_1.46.0.zip PackageFileSize: 813.5 KiB