Package: tripr Version: 1.12.0 Command: /Library/Frameworks/R.framework/Resources/bin/R CMD build --keep-empty-dirs --no-resave-data tripr StartedAt: 2025-02-04 10:05:26 -0500 (Tue, 04 Feb 2025) EndedAt: 2025-02-04 10:06:26 -0500 (Tue, 04 Feb 2025) EllapsedTime: 59.5 seconds RetCode: 0 Status: OK PackageFile: tripr_1.12.0.tar.gz PackageFileSize: 2.938 MiB