Package: tripr Version: 1.12.0 Command: /Library/Frameworks/R.framework/Resources/bin/R CMD INSTALL tripr StartedAt: 2025-02-03 16:52:49 -0500 (Mon, 03 Feb 2025) EndedAt: 2025-02-03 16:53:23 -0500 (Mon, 03 Feb 2025) EllapsedTime: 34.0 seconds RetCode: 0 Status: OK