Package: tripr Version: 1.12.0 Command: F:\biocbuild\bbs-3.20-bioc\R\bin\R.exe CMD INSTALL tripr StartedAt: 2025-02-17 16:23:54 -0500 (Mon, 17 Feb 2025) EndedAt: 2025-02-17 16:24:46 -0500 (Mon, 17 Feb 2025) EllapsedTime: 51.7 seconds RetCode: 0 Status: OK