Package: tripr Version: 1.12.0 Command: /home/biocbuild/R/R/bin/R CMD INSTALL tripr StartedAt: 2025-02-03 20:58:10 -0000 (Mon, 03 Feb 2025) EndedAt: 2025-02-03 20:58:49 -0000 (Mon, 03 Feb 2025) EllapsedTime: 38.8 seconds RetCode: 0 Status: OK