Package: twilight Version: 1.82.0 Command: chmod a+r twilight -R && F:\biocbuild\bbs-3.20-bioc\R\bin\R.exe CMD build --keep-empty-dirs --no-resave-data twilight StartedAt: 2025-02-10 22:38:10 -0500 (Mon, 10 Feb 2025) EndedAt: 2025-02-10 22:39:46 -0500 (Mon, 10 Feb 2025) EllapsedTime: 95.1 seconds RetCode: 0 Status: OK PackageFile: twilight_1.82.0.tar.gz PackageFileSize: 948.9 KiB