Package: twilight Version: 1.82.0 Command: F:\biocbuild\bbs-3.20-bioc\R\bin\R.exe CMD check --no-multiarch --install=check:twilight.install-out.txt --library=F:\biocbuild\bbs-3.20-bioc\R\library --no-vignettes --timings twilight_1.82.0.tar.gz StartedAt: 2025-02-11 07:16:23 -0500 (Tue, 11 Feb 2025) EndedAt: 2025-02-11 07:17:08 -0500 (Tue, 11 Feb 2025) EllapsedTime: 44.9 seconds RetCode: 0 Status: OK CheckDir: twilight.Rcheck Warnings: 0