Package: twoddpcr Version: 1.30.0 Command: rm -rf twoddpcr.buildbin-libdir && mkdir twoddpcr.buildbin-libdir && /Users/biocbuild/BBS/utils/build-universal.sh twoddpcr_1.30.0.tar.gz /Library/Frameworks/R.framework/Resources/bin/R twoddpcr.buildbin-libdir StartedAt: 2025-01-31 13:53:58 -0500 (Fri, 31 Jan 2025) EndedAt: 2025-01-31 13:54:28 -0500 (Fri, 31 Jan 2025) EllapsedTime: 29.7 seconds RetCode: 0 Status: OK PackageFile: twoddpcr_1.30.0.tgz PackageFileSize: 4.794 MiB