Package: twoddpcr Version: 1.30.0 Command: /Library/Frameworks/R.framework/Resources/bin/R CMD INSTALL twoddpcr StartedAt: 2025-01-30 16:08:31 -0500 (Thu, 30 Jan 2025) EndedAt: 2025-01-30 16:08:56 -0500 (Thu, 30 Jan 2025) EllapsedTime: 25.5 seconds RetCode: 0 Status: OK