Package: twoddpcr Version: 1.30.0 Command: chmod a+r twoddpcr -R && F:\biocbuild\bbs-3.20-bioc\R\bin\R.exe CMD build --keep-empty-dirs --no-resave-data twoddpcr StartedAt: 2025-01-30 22:25:36 -0500 (Thu, 30 Jan 2025) EndedAt: 2025-01-30 22:31:15 -0500 (Thu, 30 Jan 2025) EllapsedTime: 339.4 seconds RetCode: 0 Status: OK PackageFile: twoddpcr_1.30.0.tar.gz PackageFileSize: 2.114 MiB