Package: twoddpcr Version: 1.30.0 Command: F:\biocbuild\bbs-3.20-bioc\R\bin\R.exe CMD INSTALL twoddpcr StartedAt: 2025-01-30 15:54:03 -0500 (Thu, 30 Jan 2025) EndedAt: 2025-01-30 15:55:14 -0500 (Thu, 30 Jan 2025) EllapsedTime: 71.8 seconds RetCode: 0 Status: OK