Package: twoddpcr Version: 1.30.0 Command: /home/biocbuild/R/R/bin/R CMD build --keep-empty-dirs --no-resave-data twoddpcr StartedAt: 2025-02-04 03:43:04 -0000 (Tue, 04 Feb 2025) EndedAt: 2025-02-04 03:47:11 -0000 (Tue, 04 Feb 2025) EllapsedTime: 247.4 seconds RetCode: 0 Status: OK PackageFile: twoddpcr_1.30.0.tar.gz PackageFileSize: 2.164 MiB