Package: txcutr Version: 1.12.0 Command: /home/biocbuild/bbs-3.20-bioc/R/bin/R CMD build --keep-empty-dirs --no-resave-data --md5 txcutr StartedAt: 2025-02-03 19:43:15 -0500 (Mon, 03 Feb 2025) EndedAt: 2025-02-03 19:44:27 -0500 (Mon, 03 Feb 2025) EllapsedTime: 72.1 seconds RetCode: 0 Status: OK PackageFile: txcutr_1.12.0.tar.gz PackageFileSize: 315.7 KiB