Package: txdbmaker Version: 1.2.1 Command: /home/biocbuild/bbs-3.20-bioc/R/bin/R CMD build --keep-empty-dirs --no-resave-data --md5 txdbmaker StartedAt: 2025-02-03 19:43:27 -0500 (Mon, 03 Feb 2025) EndedAt: 2025-02-03 19:44:51 -0500 (Mon, 03 Feb 2025) EllapsedTime: 84.1 seconds RetCode: 0 Status: OK PackageFile: txdbmaker_1.2.1.tar.gz PackageFileSize: 1011 KiB