Package: txdbmaker
Version: 1.1.0
Command: F:\biocbuild\bbs-3.20-bioc\R\bin\R.exe CMD check --no-multiarch --install=check:txdbmaker.install-out.txt --library=F:\biocbuild\bbs-3.20-bioc\R\library --no-vignettes --timings txdbmaker_1.1.0.tar.gz
StartedAt: 2024-06-10 11:45:26 -0400 (Mon, 10 Jun 2024)
EndedAt: 2024-06-10 12:02:17 -0400 (Mon, 10 Jun 2024)
EllapsedTime: 1010.8 seconds
RetCode: 1
Status: ERROR
CheckDir: txdbmaker.Rcheck
Warnings: NA